BEGIN:VCALENDAR
VERSION:2.0
PRODID:-//Shinrine - ECPv6.10.0//NONSGML v1.0//EN
CALSCALE:GREGORIAN
METHOD:PUBLISH
X-ORIGINAL-URL:https://shinrine.fr
X-WR-CALDESC:Évènements pour Shinrine
REFRESH-INTERVAL;VALUE=DURATION:PT1H
X-Robots-Tag:noindex
X-PUBLISHED-TTL:PT1H
BEGIN:VTIMEZONE
TZID:Europe/Paris
BEGIN:DAYLIGHT
TZOFFSETFROM:+0100
TZOFFSETTO:+0200
TZNAME:CEST
DTSTART:20240331T010000
END:DAYLIGHT
BEGIN:STANDARD
TZOFFSETFROM:+0200
TZOFFSETTO:+0100
TZNAME:CET
DTSTART:20241027T010000
END:STANDARD
END:VTIMEZONE
BEGIN:VEVENT
DTSTART;TZID=Europe/Paris:20240517T133000
DTEND;TZID=Europe/Paris:20240517T170000
DTSTAMP:20260421T131632
CREATED:20240328T115016Z
LAST-MODIFIED:20240329T111244Z
UID:1006-1715952600-1715965200@shinrine.fr
SUMMARY:Shinrin Yoku / Bain de forêt - Cabanac-et-Villagrains
DESCRIPTION:💚 Besoin de nature et d’émerveillement ? \nJe guide un Shinrin Yoku\, entre pinède\, forêt et rivière\, le long du magnifique Gât-Mort 🏞. \nNous alternerons entre invitations dans le silence et temps de partage. \n📌 Rdv à Cabanac-et-Villagrains.\n🥾 Vendredi 17/05 de 13h30 à 17h. \nHâte de partager ce moment avec toi 💚.
URL:https://shinrine.fr/event/shinrin-yoku-bain-de-foret-cabanac-et-villagrains-2/
LOCATION:Cabanac-et-Villagrains
CATEGORIES:Shinrin Yoku / bain de forêt
ATTACH;FMTTYPE=image/jpeg:https://shinrine.fr/wp-content/uploads/2024/03/bain-de-foret-shinrin-yoku-gironde-cabanac-bordeaux-sylvotherapie-scaled.jpg
ORGANIZER;CN="Adeline MARIE":MAILTO:shinrine.contact@gmail.com
END:VEVENT
END:VCALENDAR