BEGIN:VCALENDAR
VERSION:2.0
PRODID:-//Shinrine - ECPv6.10.0//NONSGML v1.0//EN
CALSCALE:GREGORIAN
METHOD:PUBLISH
X-ORIGINAL-URL:https://shinrine.fr
X-WR-CALDESC:Évènements pour Shinrine
REFRESH-INTERVAL;VALUE=DURATION:PT1H
X-Robots-Tag:noindex
X-PUBLISHED-TTL:PT1H
BEGIN:VTIMEZONE
TZID:Europe/Paris
BEGIN:DAYLIGHT
TZOFFSETFROM:+0100
TZOFFSETTO:+0200
TZNAME:CEST
DTSTART:20230326T010000
END:DAYLIGHT
BEGIN:STANDARD
TZOFFSETFROM:+0200
TZOFFSETTO:+0100
TZNAME:CET
DTSTART:20231029T010000
END:STANDARD
END:VTIMEZONE
BEGIN:VEVENT
DTSTART;TZID=Europe/Paris:20230228T133000
DTEND;TZID=Europe/Paris:20230228T170000
DTSTAMP:20260422T150126
CREATED:20230327T155642Z
LAST-MODIFIED:20230327T155734Z
UID:807-1677591000-1677603600@shinrine.fr
SUMMARY:Shinrin Yoku / Bain de forêt - Saint-Morillon
DESCRIPTION:👭💚 Envie de nature sauvage et préservée et de partages entre femmes ? \n\n\nJe guide un Shinrin Yoku\, à Saint-Morillon pour l’association L’BURN – Les BURN’ettes\, localisée à Bordeaux. \nNous cheminerons au milieu des pins\, puis pénétrerons dans la mystérieuse vallée du Gât-mort. \n\n\nNous alternerons entre invitations dans le silence et temps de partage. \n\n📌 Saint-Morillon\n\n🥾 Mardi 28/03 de 13h30 à 17h.\n\nHâte de partager ce moment avec toi 💚.
URL:https://shinrine.fr/event/shinrin-yoku-bain-de-foret-saint-morillon/
LOCATION:Saint-Morillon
CATEGORIES:Shinrin Yoku / bain de forêt
END:VEVENT
END:VCALENDAR