BEGIN:VCALENDAR
VERSION:2.0
PRODID:-//Shinrine - ECPv6.10.0//NONSGML v1.0//EN
CALSCALE:GREGORIAN
METHOD:PUBLISH
X-ORIGINAL-URL:https://shinrine.fr
X-WR-CALDESC:Évènements pour Shinrine
REFRESH-INTERVAL;VALUE=DURATION:PT1H
X-Robots-Tag:noindex
X-PUBLISHED-TTL:PT1H
BEGIN:VTIMEZONE
TZID:Europe/Paris
BEGIN:DAYLIGHT
TZOFFSETFROM:+0100
TZOFFSETTO:+0200
TZNAME:CEST
DTSTART:20220327T010000
END:DAYLIGHT
BEGIN:STANDARD
TZOFFSETFROM:+0200
TZOFFSETTO:+0100
TZNAME:CET
DTSTART:20221030T010000
END:STANDARD
END:VTIMEZONE
BEGIN:VEVENT
DTSTART;TZID=Europe/Paris:20221126T100000
DTEND;TZID=Europe/Paris:20221126T130000
DTSTAMP:20260422T221926
CREATED:20221121T125300Z
LAST-MODIFIED:20230327T155529Z
UID:590-1669456800-1669467600@shinrine.fr
SUMMARY:Bain de forêt - Cabanac-et-Villagrains
DESCRIPTION:🐸 Il pleut\, il mouille\, c’est la fête à la grenouille. \nL’automne est là\, la pluie aussi\, quel soulagement après les canicules de cet été. \nLa terre humide libère ses odeurs\, les champignons nous surprennent et nous invitent à observer plus attentivement.\nLes feuilles des arbres 🍁 rougeoient et se parent de leurs couleurs dorées\, quelle merveille ! \nLe Shinrin Yoku nous donne l’occasion de sentir\, d’écouter\, regarder\, toucher\, goûter… De se connecter à ses sens et de découvrir la forêt autrement. \nEnvie de venir tester ? \n📌 Rdv à Cabanac-et-Villagrains \n🥾 Samedi 26/11 de 10 h à 13 h. Merci de se présenter 15 minutes avant l’heure prévue au lieu de rendez-vous. \nParticipation libre\, en conscience. \nAu plaisir de partager ce moment bien-être !
URL:https://shinrine.fr/event/bain-de-foret-cabanac-et-villagrains/
LOCATION:Cabanac
CATEGORIES:Shinrin Yoku / bain de forêt
ORGANIZER;CN="Adeline MARIE":MAILTO:shinrine.contact@gmail.com
END:VEVENT
END:VCALENDAR