BEGIN:VCALENDAR
VERSION:2.0
PRODID:-//Shinrine - ECPv6.10.0//NONSGML v1.0//EN
CALSCALE:GREGORIAN
METHOD:PUBLISH
X-ORIGINAL-URL:https://shinrine.fr
X-WR-CALDESC:Évènements pour Shinrine
REFRESH-INTERVAL;VALUE=DURATION:PT1H
X-Robots-Tag:noindex
X-PUBLISHED-TTL:PT1H
BEGIN:VTIMEZONE
TZID:Europe/Paris
BEGIN:DAYLIGHT
TZOFFSETFROM:+0100
TZOFFSETTO:+0200
TZNAME:CEST
DTSTART:20250330T010000
END:DAYLIGHT
BEGIN:STANDARD
TZOFFSETFROM:+0200
TZOFFSETTO:+0100
TZNAME:CET
DTSTART:20251026T010000
END:STANDARD
END:VTIMEZONE
BEGIN:VEVENT
DTSTART;TZID=Europe/Paris:20250507T140000
DTEND;TZID=Europe/Paris:20250507T170000
DTSTAMP:20260420T113355
CREATED:20250428T143045Z
LAST-MODIFIED:20250428T143045Z
UID:1485-1746626400-1746637200@shinrine.fr
SUMMARY:Shinrin Yoku / Bain de forêt à Martres
DESCRIPTION:Laisse-toi guider par la nature renaissante\, dans une ancienne carrière devenue havre de biodiversité\, à Martres dans l’Entre-deux-Mers. \nEntre plans d’eau\, boisements et zones sèches\, l’eau est partout : elle apaise\, elle régénère\, elle inspire. \nAlors respire\, écoute\, ressens… La nature est bien vivante\, et elle t’attend. \nLieu : Carrière de Jeandillon à Martres (33) \n👉 https://my.weezevent.com/shinrin-yoku-bain-de-foret-3
URL:https://shinrine.fr/event/shinrin-yoku-bain-de-foret-a-martres/
LOCATION:Martres
CATEGORIES:Shinrin Yoku / bain de forêt
ATTACH;FMTTYPE=image/jpeg:https://shinrine.fr/wp-content/uploads/2025/04/weezevent.jpg
ORGANIZER;CN="Adeline MARIE":MAILTO:shinrine.contact@gmail.com
END:VEVENT
END:VCALENDAR