BEGIN:VCALENDAR
VERSION:2.0
PRODID:-//Shinrine - ECPv6.10.0//NONSGML v1.0//EN
CALSCALE:GREGORIAN
METHOD:PUBLISH
X-ORIGINAL-URL:https://shinrine.fr
X-WR-CALDESC:Évènements pour Shinrine
REFRESH-INTERVAL;VALUE=DURATION:PT1H
X-Robots-Tag:noindex
X-PUBLISHED-TTL:PT1H
BEGIN:VTIMEZONE
TZID:Europe/Paris
BEGIN:DAYLIGHT
TZOFFSETFROM:+0100
TZOFFSETTO:+0200
TZNAME:CEST
DTSTART:20250330T010000
END:DAYLIGHT
BEGIN:STANDARD
TZOFFSETFROM:+0200
TZOFFSETTO:+0100
TZNAME:CET
DTSTART:20251026T010000
END:STANDARD
END:VTIMEZONE
BEGIN:VEVENT
DTSTART;TZID=Europe/Paris:20250224T100000
DTEND;TZID=Europe/Paris:20250224T133000
DTSTAMP:20260420T170011
CREATED:20250204T145526Z
LAST-MODIFIED:20250204T151455Z
UID:1317-1740391200-1740403800@shinrine.fr
SUMMARY:Shinrin Yoku / Bain de forêt à Cestas
DESCRIPTION:Viens t’offrir une parenthèse de douceur en février\, alors que la nature commence à frissonner sous les premiers souffles du printemps. Je t’invite à un voyage sensoriel\, au cœur de la forêt de Cestas\, entre pinède et sentier longeant un ruisseau apaisant. \nLe Shinrin Yoku\, ou bain de forêt\, est une expérience immersive qui te permet de te reconnecter à la nature\, décompresser en profondeur et de te recentrer. Au fil du parcours\, laisse-toi guider par les murmures des arbres\, le chant de l’eau\, et la douceur de l’air frais. \nC’est l’occasion de ralentir\, de respirer pleinement\, et d’accueillir les premiers signes du printemps en toute sérénité. Un moment parfait pour te ressourcer pendant les vacances. \nInfos pratiques :\n• Lieu : Cestas\, entre pinède\, forêt et ruisseau\n• Date : le 24 février\, de 10 h à 13 h\n• Matériel : Prévois des vêtements confortables et adaptés à la météo\, ainsi qu’une gourde d’eau. \nViens seul•e\, entre ami•es ou en couple\, et laisse la forêt prendre soin de toi. \n🌱 Respire. Ressens. Ralentis. 🌱
URL:https://shinrine.fr/event/invitation-au-shinrin-yoku-bain-de-foret-a-cestas-33-gironde/
LOCATION:Cestas\, cestas\, 33610\, France
CATEGORIES:Shinrin Yoku / bain de forêt
ATTACH;FMTTYPE=image/jpeg:https://shinrine.fr/wp-content/uploads/2025/02/Bain-de-foret-shinrin-yoku-cestas-gironde-bordeaux-balade-nature-connexion-a-ses-sens.jpg
ORGANIZER;CN="Adeline MARIE":MAILTO:shinrine.contact@gmail.com
END:VEVENT
END:VCALENDAR