BEGIN:VCALENDAR
VERSION:2.0
PRODID:-//Shinrine - ECPv6.10.0//NONSGML v1.0//EN
CALSCALE:GREGORIAN
METHOD:PUBLISH
X-ORIGINAL-URL:https://shinrine.fr
X-WR-CALDESC:Évènements pour Shinrine
REFRESH-INTERVAL;VALUE=DURATION:PT1H
X-Robots-Tag:noindex
X-PUBLISHED-TTL:PT1H
BEGIN:VTIMEZONE
TZID:Europe/Paris
BEGIN:DAYLIGHT
TZOFFSETFROM:+0100
TZOFFSETTO:+0200
TZNAME:CEST
DTSTART:20240331T010000
END:DAYLIGHT
BEGIN:STANDARD
TZOFFSETFROM:+0200
TZOFFSETTO:+0100
TZNAME:CET
DTSTART:20241027T010000
END:STANDARD
END:VTIMEZONE
BEGIN:VEVENT
DTSTART;TZID=Europe/Paris:20241211T100000
DTEND;TZID=Europe/Paris:20241211T120000
DTSTAMP:20260420T210442
CREATED:20241128T134500Z
LAST-MODIFIED:20241128T134615Z
UID:1265-1733911200-1733918400@shinrine.fr
SUMMARY:Mini Bain de forêt + séance photo à Cabanac-et-Villagrains
DESCRIPTION:Participe à un mini-bain de forêt\, une initiation au Shinrin Yoku \nCe mini-bain de forêt\, sera accompagné d’une séance photo spéciale\, réalisée par 4 étudiants de l’Université de Bordeaux. \nCe projet explore le lien entre nature et urbanité à travers un reportage sur mon approche de guide Shinrin Yoku et du bien-être en forêt. \nTa participation aidera à montrer l’importance de la nature dans notre quotidien et au cœur des villes. \nUne belle occasion de vivre un moment ressourçant tout en contribuant à un projet inspirant !
URL:https://shinrine.fr/event/mini-bain-de-foret-seance-photo-a-cabanac-et-villagrains/
LOCATION:Cabanac-et-Villagrains
CATEGORIES:Shinrin Yoku / bain de forêt
ATTACH;FMTTYPE=image/jpeg:https://shinrine.fr/wp-content/uploads/2024/11/bain-de-foret-shinrin-yoku-cabanac-et-villagrains-gratuit-shinrine.jpg
ORGANIZER;CN="Adeline MARIE":MAILTO:shinrine.contact@gmail.com
END:VEVENT
BEGIN:VEVENT
DTSTART;TZID=Europe/Paris:20241216T100000
DTEND;TZID=Europe/Paris:20241216T140000
DTSTAMP:20260420T210442
CREATED:20241128T131546Z
LAST-MODIFIED:20241128T133521Z
UID:1256-1734343200-1734357600@shinrine.fr
SUMMARY:Shinrin Yoku / Bain de forêt – Sadirac
DESCRIPTION:Je t’invite à te relier aux forces de la nature\, qui\, comme nous\, se tournent vers l’intérieur en attendant le retour de la lumière. \nLa saison est propice au calme\, au repos et au recentrage. C’est une invitation à ralentir\, à écouter ton corps et ton esprit\, et à te recentrer sur l’essentiel. \nPendant 3 heures\, offre-toi un moment rien qu’à toi. Laisse-toi guider pour : \nRalentir et profiter de l’instant présent.\nRecharger tes énergies grâce aux bienfaits puissants de la forêt.\nHonorer la Terre Mère\, en retrouvant ton ancrage et ta connexion avec elle. \nLaisse la forêt t’accompagner dans ce moment de calme et de recentrage\, dans un cadre apaisant\, pour repartir aligné.e et ressourcé.e. \nBain de forêt / Shinrin Yoku à Sadirac le 16 décembre \nUn bain de forêt\, c’est un voyage intérieur\, facilitée par le vivant. \nJe t’attends avec joie pour ce moment de partage et de sérénité.
URL:https://shinrine.fr/event/shinrin-yoku-bain-de-foret-sadirac/
LOCATION:Sadirac\, Sadirac\, 33670\, France
CATEGORIES:Shinrin Yoku / bain de forêt
ATTACH;FMTTYPE=image/jpeg:https://shinrine.fr/wp-content/uploads/2024/11/bain-de-foret-shinrin-yoku-sadirac-shinrine.jpg
ORGANIZER;CN="Adeline MARIE":MAILTO:shinrine.contact@gmail.com
END:VEVENT
END:VCALENDAR