BEGIN:VCALENDAR
VERSION:2.0
PRODID:-//Shinrine - ECPv6.10.0//NONSGML v1.0//EN
CALSCALE:GREGORIAN
METHOD:PUBLISH
X-ORIGINAL-URL:https://shinrine.fr
X-WR-CALDESC:Évènements pour Shinrine
REFRESH-INTERVAL;VALUE=DURATION:PT1H
X-Robots-Tag:noindex
X-PUBLISHED-TTL:PT1H
BEGIN:VTIMEZONE
TZID:Europe/Paris
BEGIN:DAYLIGHT
TZOFFSETFROM:+0100
TZOFFSETTO:+0200
TZNAME:CEST
DTSTART:20230326T010000
END:DAYLIGHT
BEGIN:STANDARD
TZOFFSETFROM:+0200
TZOFFSETTO:+0100
TZNAME:CET
DTSTART:20231029T010000
END:STANDARD
END:VTIMEZONE
BEGIN:VEVENT
DTSTART;TZID=Europe/Paris:20230523T100000
DTEND;TZID=Europe/Paris:20230523T133000
DTSTAMP:20260422T093950
CREATED:20230521T165014Z
LAST-MODIFIED:20230521T170207Z
UID:896-1684836000-1684848600@shinrine.fr
SUMMARY:Shinrin Yoku / Bain de forêt - Bordeaux
DESCRIPTION:👭💚 Envie de nature sauvage et préservée et de partages entre femmes ?\nJe guide un Shinrin Yoku\, à Bordeaux\, à la Réserve écologique des Barails\, pour l’association L’BURN – Les BURN’ettes.\nLes fleurs seront à l’honneur.\nNous alternerons entre invitations dans le silence et temps de partage.\n📌 Rdv : Réserve écologique des Barails à Bordeaux \n🥾 Mardi 23/05 de 10h à 14h. Merci de se présenter 15 minutes avant l’heure prévue au lieu de rendez-vous. \nHâte de partager ce moment avec toi 💚.
URL:https://shinrine.fr/event/shinrin-yoku-bain-de-foret-bordeaux/
CATEGORIES:Shinrin Yoku / bain de forêt
ATTACH;FMTTYPE=image/jpeg:https://shinrine.fr/wp-content/uploads/2023/05/shinrin-yoku-bain-de-foret-reserve-ecologique-des-Barails-Bordeaux-burnout-epuisement-scaled.jpg
END:VEVENT
BEGIN:VEVENT
DTSTART;TZID=Europe/Paris:20230527T093000
DTEND;TZID=Europe/Paris:20230527T123000
DTSTAMP:20260422T093950
CREATED:20230108T113710Z
LAST-MODIFIED:20240328T113343Z
UID:714-1685179800-1685190600@shinrine.fr
SUMMARY:Shinrin Yoku / Bain de forêt - Belvédère du Ciron
DESCRIPTION:👭💚 Envie de nature sauvage et préservée et de partages entre femmes ?\nJe co-guide un Shinrin Yoku avec Chantal\, dans la vallée du Ciron 🏞 pour l’association Les filles Outdoor.\n🤗 Au programme\, atelier de méditation dynamique\, pique-nique et bain de forêt. Sérénité\, calme\, émerveillement\, beauté\, ralentir\, connexion avec la forêt\, voilà le programme. \nLà-bas\, faune 🦦🐦🐢🐟et flore 🌳🌲🌿 s’épanouissent\, en toute quiétude\, au bord de la magnifique rivière du Ciron.\nNous alternerons entre invitations dans le silence et temps de partage.\n📌 Rdv Balcon / Belvédère du Ciron à Bernos Beaulac\, devant l’ancienne Fonderie\, devenue une résidence Gironde Habitat. \n🥾 Samedi 27/05 de 10h à 17h. \nHâte de partager ce moment avec toi 💚.
URL:https://shinrine.fr/event/714/
LOCATION:Belvedere du Ciron\, Bernos Beaulac\, 33430
CATEGORIES:Shinrin Yoku / bain de forêt
ORGANIZER;CN="Adeline MARIE":MAILTO:shinrine.contact@gmail.com
END:VEVENT
END:VCALENDAR