BEGIN:VCALENDAR
VERSION:2.0
PRODID:-//Shinrine - ECPv6.10.0//NONSGML v1.0//EN
CALSCALE:GREGORIAN
METHOD:PUBLISH
X-WR-CALNAME:Shinrine
X-ORIGINAL-URL:https://shinrine.fr
X-WR-CALDESC:Évènements pour Shinrine
REFRESH-INTERVAL;VALUE=DURATION:PT1H
X-Robots-Tag:noindex
X-PUBLISHED-TTL:PT1H
BEGIN:VTIMEZONE
TZID:Europe/Paris
BEGIN:DAYLIGHT
TZOFFSETFROM:+0100
TZOFFSETTO:+0200
TZNAME:CEST
DTSTART:20230326T010000
END:DAYLIGHT
BEGIN:STANDARD
TZOFFSETFROM:+0200
TZOFFSETTO:+0100
TZNAME:CET
DTSTART:20231029T010000
END:STANDARD
END:VTIMEZONE
BEGIN:VEVENT
DTSTART;TZID=Europe/Paris:20230131T140000
DTEND;TZID=Europe/Paris:20230131T170000
DTSTAMP:20260422T164259
CREATED:20230126T153346Z
LAST-MODIFIED:20230327T154023Z
UID:776-1675173600-1675184400@shinrine.fr
SUMMARY:Shinrin Yoku / Bain de forêt - Belvédère du Ciron
DESCRIPTION:👭💚 Envie de nature sauvage et préservée et de partages entre femmes ?\nJe guide un Shinrin Yoku\, dans la vallée du Ciron 🏞 pour l’association L’BURN – Les BURN’ettes\, localisée à Bordeaux.\nLà-bas\, faune 🦦🐦🐢🐟 et flore 🌳🌲🌿 s’épanouissent\, en toute quiétude\, au bord de la magnifique rivière du Ciron.\nNous alternerons entre invitations dans le silence et temps de partage.\n📌 Rdv Balcon / Belvédère du Ciron à Bernos Beaulac\, devant l’ancienne Fonderie\, devenue une résidence Gironde Habitat. \n🥾 Mardi 31/01 de 14h à 17h. Merci de se présenter 15 minutes avant l’heure prévue au lieu de rendez-vous. \nInscription sur Hello Asso : https://www.helloasso.com/associations/les-burn-ettes/evenements/bain-de-foret-31-01-23 \nHâte de partager ce moment avec toi 💚.
URL:https://shinrine.fr/event/shinrin-yoku-bain-de-foret-belvedere-du-ciron/
LOCATION:Belvedere du Ciron\, Bernos Beaulac\, 33430
CATEGORIES:Shinrin Yoku / bain de forêt
ATTACH;FMTTYPE=image/jpeg:https://shinrine.fr/wp-content/uploads/2023/01/IMG_3065-scaled.jpg
END:VEVENT
END:VCALENDAR